BEGIN:VCALENDAR
VERSION:2.0
PRODID:-//FCKP - ECPv6.15.16//NONSGML v1.0//EN
CALSCALE:GREGORIAN
METHOD:PUBLISH
X-ORIGINAL-URL:https://fckp.net
X-WR-CALDESC:Events for FCKP
REFRESH-INTERVAL;VALUE=DURATION:PT1H
X-Robots-Tag:noindex
X-PUBLISHED-TTL:PT1H
BEGIN:VTIMEZONE
TZID:Europe/Berlin
BEGIN:DAYLIGHT
TZOFFSETFROM:+0100
TZOFFSETTO:+0200
TZNAME:CEST
DTSTART:20130331T010000
END:DAYLIGHT
BEGIN:STANDARD
TZOFFSETFROM:+0200
TZOFFSETTO:+0100
TZNAME:CET
DTSTART:20131027T010000
END:STANDARD
BEGIN:DAYLIGHT
TZOFFSETFROM:+0100
TZOFFSETTO:+0200
TZNAME:CEST
DTSTART:20140330T010000
END:DAYLIGHT
BEGIN:STANDARD
TZOFFSETFROM:+0200
TZOFFSETTO:+0100
TZNAME:CET
DTSTART:20141026T010000
END:STANDARD
BEGIN:DAYLIGHT
TZOFFSETFROM:+0100
TZOFFSETTO:+0200
TZNAME:CEST
DTSTART:20150329T010000
END:DAYLIGHT
BEGIN:STANDARD
TZOFFSETFROM:+0200
TZOFFSETTO:+0100
TZNAME:CET
DTSTART:20151025T010000
END:STANDARD
BEGIN:DAYLIGHT
TZOFFSETFROM:+0100
TZOFFSETTO:+0200
TZNAME:CEST
DTSTART:20160327T010000
END:DAYLIGHT
BEGIN:STANDARD
TZOFFSETFROM:+0200
TZOFFSETTO:+0100
TZNAME:CET
DTSTART:20161030T010000
END:STANDARD
BEGIN:DAYLIGHT
TZOFFSETFROM:+0100
TZOFFSETTO:+0200
TZNAME:CEST
DTSTART:20170326T010000
END:DAYLIGHT
BEGIN:STANDARD
TZOFFSETFROM:+0200
TZOFFSETTO:+0100
TZNAME:CET
DTSTART:20171029T010000
END:STANDARD
BEGIN:DAYLIGHT
TZOFFSETFROM:+0100
TZOFFSETTO:+0200
TZNAME:CEST
DTSTART:20180325T010000
END:DAYLIGHT
BEGIN:STANDARD
TZOFFSETFROM:+0200
TZOFFSETTO:+0100
TZNAME:CET
DTSTART:20181028T010000
END:STANDARD
BEGIN:DAYLIGHT
TZOFFSETFROM:+0100
TZOFFSETTO:+0200
TZNAME:CEST
DTSTART:20190331T010000
END:DAYLIGHT
BEGIN:STANDARD
TZOFFSETFROM:+0200
TZOFFSETTO:+0100
TZNAME:CET
DTSTART:20191027T010000
END:STANDARD
END:VTIMEZONE
BEGIN:VEVENT
DTSTART;TZID=Europe/Berlin:20180211T130000
DTEND;TZID=Europe/Berlin:20180211T150000
DTSTAMP:20260421T135013
CREATED:20171212T171016Z
LAST-MODIFIED:20171212T171016Z
UID:5668-1518354000-1518361200@fckp.net
SUMMARY:FCKP Winter Cup 2018
DESCRIPTION:
URL:https://fckp.net/event/fckp-winter-cup-2018/
LOCATION:Eckertstraße 16a\, Eckertstraße 16a\, Berlin\, 10249\, Germany
CATEGORIES:FCKP Special Events
END:VEVENT
BEGIN:VEVENT
DTSTART;TZID=Europe/Berlin:20171216T190000
DTEND;TZID=Europe/Berlin:20171216T233000
DTSTAMP:20260421T135013
CREATED:20171017T083732Z
LAST-MODIFIED:20171017T083732Z
UID:5613-1513450800-1513467000@fckp.net
SUMMARY:#FCKP end of the year Party and Awards
DESCRIPTION:
URL:https://fckp.net/event/fckp-end-year-party-awards/
CATEGORIES:FCKP Special Events
END:VEVENT
BEGIN:VEVENT
DTSTART;TZID=Europe/Berlin:20170305T180000
DTEND;TZID=Europe/Berlin:20170305T180000
DTSTAMP:20260421T135013
CREATED:20170102T193444Z
LAST-MODIFIED:20170104T213240Z
UID:4911-1488736800-1488736800@fckp.net
SUMMARY:FIFA Virtual Winter League 16/17 – Match Day #4
DESCRIPTION:
URL:https://fckp.net/event/fifa-virtual-winter-league-1617-match-day-2/
CATEGORIES:FCKP Special Events
ATTACH;FMTTYPE=image/jpeg:https://fckp.net/wp-content/uploads/2017/01/FVWL-17.jpg
END:VEVENT
BEGIN:VEVENT
DTSTART;TZID=Europe/Berlin:20170302T210000
DTEND;TZID=Europe/Berlin:20170302T223000
DTSTAMP:20260421T135013
CREATED:20161126T204417Z
LAST-MODIFIED:20161126T204417Z
UID:4854-1488488400-1488493800@fckp.net
SUMMARY:#FCKP goes Indoor | Session VIII
DESCRIPTION:
URL:https://fckp.net/event/fckp-goes-indoor-session-viii/
LOCATION:ABC Hallenfussball\, Wollenbergerstrasse 12\, Berlin\, 13053\, Germany
CATEGORIES:FCKP Special Events
ATTACH;FMTTYPE=image/jpeg:https://fckp.net/wp-content/uploads/2016/08/14010088_10158114597090206_1937212417_n.jpg
END:VEVENT
BEGIN:VEVENT
DTSTART;TZID=Europe/Berlin:20170216T210000
DTEND;TZID=Europe/Berlin:20170216T223000
DTSTAMP:20260421T135013
CREATED:20161126T204248Z
LAST-MODIFIED:20161126T204248Z
UID:4852-1487278800-1487284200@fckp.net
SUMMARY:#FCKP goes Indoor | Session VII
DESCRIPTION:
URL:https://fckp.net/event/fckp-goes-indoor-session-vii/
LOCATION:ABC Hallenfussball\, Wollenbergerstrasse 12\, Berlin\, 13053\, Germany
CATEGORIES:FCKP Special Events
ATTACH;FMTTYPE=image/jpeg:https://fckp.net/wp-content/uploads/2016/08/14010088_10158114597090206_1937212417_n.jpg
END:VEVENT
BEGIN:VEVENT
DTSTART;TZID=Europe/Berlin:20170204T170000
DTEND;TZID=Europe/Berlin:20170204T170000
DTSTAMP:20260421T135013
CREATED:20170118T214239Z
LAST-MODIFIED:20170118T214239Z
UID:4982-1486227600-1486227600@fckp.net
SUMMARY:FIFA Virtual Winter League 2016/2017 – Match Day #3
DESCRIPTION:FVWL 17
URL:https://fckp.net/event/fifa-virtual-winter-league-20162017-match-day-3/
CATEGORIES:FCKP Special Events
END:VEVENT
BEGIN:VEVENT
DTSTART;TZID=Europe/Berlin:20170202T210000
DTEND;TZID=Europe/Berlin:20170202T223000
DTSTAMP:20260421T135013
CREATED:20161126T204149Z
LAST-MODIFIED:20161126T204149Z
UID:4850-1486069200-1486074600@fckp.net
SUMMARY:#FCKP goes Indoor | Session VI
DESCRIPTION:
URL:https://fckp.net/event/fckp-goes-indoor-session-vi/
LOCATION:ABC Hallenfussball\, Wollenbergerstrasse 12\, Berlin\, 13053\, Germany
CATEGORIES:FCKP Special Events
ATTACH;FMTTYPE=image/jpeg:https://fckp.net/wp-content/uploads/2016/08/14010088_10158114597090206_1937212417_n.jpg
END:VEVENT
BEGIN:VEVENT
DTSTART;TZID=Europe/Berlin:20170119T210000
DTEND;TZID=Europe/Berlin:20170119T223000
DTSTAMP:20260421T135013
CREATED:20161116T142151Z
LAST-MODIFIED:20161126T204018Z
UID:4781-1484859600-1484865000@fckp.net
SUMMARY:#FCKP goes Indoor | Session V
DESCRIPTION:
URL:https://fckp.net/event/fckp-goes-indoor-session-iv/
LOCATION:ABC Hallenfussball\, Wollenbergerstrasse 12\, Berlin\, 13053\, Germany
CATEGORIES:FCKP Special Events
END:VEVENT
BEGIN:VEVENT
DTSTART;TZID=Europe/Berlin:20170105T210000
DTEND;TZID=Europe/Berlin:20170105T223000
DTSTAMP:20260421T135013
CREATED:20161116T142058Z
LAST-MODIFIED:20161126T204008Z
UID:4779-1483650000-1483655400@fckp.net
SUMMARY:#FCKP goes Indoor | Session IV
DESCRIPTION:
URL:https://fckp.net/event/fckp-goes-indoor-session-iii/
LOCATION:ABC Hallenfussball\, Wollenbergerstrasse 12\, Berlin\, 13053\, Germany
CATEGORIES:FCKP Special Events
END:VEVENT
BEGIN:VEVENT
DTSTART;TZID=Europe/Berlin:20161222T210000
DTEND;TZID=Europe/Berlin:20161222T223000
DTSTAMP:20260421T135013
CREATED:20161116T141955Z
LAST-MODIFIED:20161126T203948Z
UID:4777-1482440400-1482445800@fckp.net
SUMMARY:#FCKP goes Indoor | Session III
DESCRIPTION:
URL:https://fckp.net/event/fckp-goes-indoor-session-ii/
LOCATION:ABC Hallenfussball\, Wollenbergerstrasse 12\, Berlin\, 13053\, Germany
CATEGORIES:FCKP Special Events
END:VEVENT
BEGIN:VEVENT
DTSTART;TZID=Europe/Berlin:20161208T210000
DTEND;TZID=Europe/Berlin:20161208T223000
DTSTAMP:20260421T135013
CREATED:20161126T220101Z
LAST-MODIFIED:20161126T220101Z
UID:4857-1481230800-1481236200@fckp.net
SUMMARY:#FCKP goes Indoor | Session II
DESCRIPTION:
URL:https://fckp.net/event/fckp-goes-indoor-session-ii-2/
LOCATION:ABC Hallenfussball\, Wollenbergerstrasse 12\, Berlin\, 13053\, Germany
CATEGORIES:FCKP Special Events
ATTACH;FMTTYPE=image/jpeg:https://fckp.net/wp-content/uploads/2016/08/14010088_10158114597090206_1937212417_n.jpg
END:VEVENT
BEGIN:VEVENT
DTSTART;TZID=Europe/Berlin:20160221T180000
DTEND;TZID=Europe/Berlin:20160221T220000
DTSTAMP:20260421T135013
CREATED:20151207T132641Z
LAST-MODIFIED:20151207T132641Z
UID:3793-1456077600-1456092000@fckp.net
SUMMARY:FCKP > FIFA Virtual Winter League - Match Day 4
DESCRIPTION:
URL:https://fckp.net/event/fckp-fifa-virtual-winter-league-match-day-4/
CATEGORIES:FCKP Special Events
ATTACH;FMTTYPE=image/jpeg:https://fckp.net/wp-content/uploads/2015/12/FVWL4.jpg
END:VEVENT
BEGIN:VEVENT
DTSTART;TZID=Europe/Berlin:20160214T130000
DTEND;TZID=Europe/Berlin:20160214T180000
DTSTAMP:20260421T135013
CREATED:20151207T141804Z
LAST-MODIFIED:20151207T141804Z
UID:3806-1455454800-1455472800@fckp.net
SUMMARY:FCKP > FCKP Indoor Cup 2016
DESCRIPTION:
URL:https://fckp.net/event/fckp-fckp-indoor-cup-2016/
LOCATION:ABC Hallenfussball\, Wollenbergerstrasse 12\, Berlin\, 13053\, Germany
CATEGORIES:FCKP Special Events
ATTACH;FMTTYPE=image/jpeg:https://fckp.net/wp-content/uploads/2015/12/FCKP-Indoor.jpg
END:VEVENT
BEGIN:VEVENT
DTSTART;TZID=Europe/Berlin:20160124T180000
DTEND;TZID=Europe/Berlin:20160124T230000
DTSTAMP:20260421T135013
CREATED:20151207T132405Z
LAST-MODIFIED:20151220T145411Z
UID:3785-1453658400-1453676400@fckp.net
SUMMARY:FCKP > FIFA Virtual Winter League - Match Day 3
DESCRIPTION:
URL:https://fckp.net/event/fckp-fifa-virtual-winter-league-match-day-3/
CATEGORIES:FCKP Special Events
ATTACH;FMTTYPE=image/jpeg:https://fckp.net/wp-content/uploads/2015/12/FVWL3.jpg
END:VEVENT
BEGIN:VEVENT
DTSTART;TZID=Europe/Berlin:20141214T100000
DTEND;TZID=Europe/Berlin:20141214T160000
DTSTAMP:20260421T135013
CREATED:20141116T225136Z
LAST-MODIFIED:20141116T230424Z
UID:1955-1418551200-1418572800@fckp.net
SUMMARY:FCKP Indoor Christmas Tournament
DESCRIPTION:
URL:https://fckp.net/event/fckp-indoor-christmas-tournament/
LOCATION:Fritz-Reuter -Oberschule\, Prendener Straße 29\, Berlin\, 13059\, Germany
CATEGORIES:FCKP Special Events
ATTACH;FMTTYPE=image/jpeg:https://fckp.net/wp-content/uploads/2014/11/FCKP-poster_4.jpg
END:VEVENT
END:VCALENDAR