BEGIN:VCALENDAR
VERSION:2.0
PRODID:-//FCKP - ECPv6.15.16//NONSGML v1.0//EN
CALSCALE:GREGORIAN
METHOD:PUBLISH
X-WR-CALNAME:FCKP
X-ORIGINAL-URL:https://fckp.net
X-WR-CALDESC:Events for FCKP
REFRESH-INTERVAL;VALUE=DURATION:PT1H
X-Robots-Tag:noindex
X-PUBLISHED-TTL:PT1H
BEGIN:VTIMEZONE
TZID:Europe/Berlin
BEGIN:DAYLIGHT
TZOFFSETFROM:+0100
TZOFFSETTO:+0200
TZNAME:CEST
DTSTART:20140330T010000
END:DAYLIGHT
BEGIN:STANDARD
TZOFFSETFROM:+0200
TZOFFSETTO:+0100
TZNAME:CET
DTSTART:20141026T010000
END:STANDARD
BEGIN:DAYLIGHT
TZOFFSETFROM:+0100
TZOFFSETTO:+0200
TZNAME:CEST
DTSTART:20150329T010000
END:DAYLIGHT
BEGIN:STANDARD
TZOFFSETFROM:+0200
TZOFFSETTO:+0100
TZNAME:CET
DTSTART:20151025T010000
END:STANDARD
BEGIN:DAYLIGHT
TZOFFSETFROM:+0100
TZOFFSETTO:+0200
TZNAME:CEST
DTSTART:20160327T010000
END:DAYLIGHT
BEGIN:STANDARD
TZOFFSETFROM:+0200
TZOFFSETTO:+0100
TZNAME:CET
DTSTART:20161030T010000
END:STANDARD
BEGIN:DAYLIGHT
TZOFFSETFROM:+0100
TZOFFSETTO:+0200
TZNAME:CEST
DTSTART:20170326T010000
END:DAYLIGHT
BEGIN:STANDARD
TZOFFSETFROM:+0200
TZOFFSETTO:+0100
TZNAME:CET
DTSTART:20171029T010000
END:STANDARD
END:VTIMEZONE
BEGIN:VEVENT
DTSTART;TZID=Europe/Berlin:20161023T150000
DTEND;TZID=Europe/Berlin:20161023T180000
DTSTAMP:20260422T131334
CREATED:20160820T133915Z
LAST-MODIFIED:20160820T133915Z
UID:4663-1477234800-1477245600@fckp.net
SUMMARY:8-a-side Friendly vs FZK Marzahner Wölfe 08
DESCRIPTION:
URL:https://fckp.net/event/8-side-friendly-vs-fzk-marzahner-wolfe-08-2/
LOCATION:Marzahner Wölfe 08\, Wittenbergerstrasse 50\, Berlin\, 12689\, Germany
CATEGORIES:Friendly
ATTACH;FMTTYPE=image/jpeg:https://fckp.net/wp-content/uploads/2016/08/14010088_10158114597090206_1937212417_n.jpg
END:VEVENT
BEGIN:VEVENT
DTSTART;TZID=Europe/Berlin:20161009T150000
DTEND;TZID=Europe/Berlin:20161009T170000
DTSTAMP:20260422T131334
CREATED:20160820T134103Z
LAST-MODIFIED:20160820T140332Z
UID:4665-1476025200-1476032400@fckp.net
SUMMARY:7-a-side Friendly vs Atlético Berlin
DESCRIPTION:
URL:https://fckp.net/event/7-side-friendly-vs-atletico-berlin/
LOCATION:Stadion Buschallee\, Hansastrasse\, Berlin\, 10178
CATEGORIES:Friendly
ATTACH;FMTTYPE=image/jpeg:https://fckp.net/wp-content/uploads/2016/08/14010088_10158114597090206_1937212417_n.jpg
END:VEVENT
BEGIN:VEVENT
DTSTART;TZID=Europe/Berlin:20161008T160000
DTEND;TZID=Europe/Berlin:20161008T180000
DTSTAMP:20260422T131334
CREATED:20161001T200946Z
LAST-MODIFIED:20161001T200946Z
UID:4716-1475942400-1475949600@fckp.net
SUMMARY:7-a-side Friendly vs Nationalteam of Authors
DESCRIPTION:
URL:https://fckp.net/event/7-side-friendly-vs-nationalteam-authors/
CATEGORIES:Friendly
ATTACH;FMTTYPE=image/jpeg:https://fckp.net/wp-content/uploads/2016/08/14010088_10158114597090206_1937212417_n.jpg
END:VEVENT
BEGIN:VEVENT
DTSTART;TZID=Europe/Berlin:20160922T190000
DTEND;TZID=Europe/Berlin:20160922T210000
DTSTAMP:20260422T131334
CREATED:20160827T153540Z
LAST-MODIFIED:20160827T153540Z
UID:4690-1474570800-1474578000@fckp.net
SUMMARY:7-a-side vs Kick Berlin
DESCRIPTION:
URL:https://fckp.net/event/7-side-vs-kick-berlin/
LOCATION:SC Siemensstadt\, Buolstrasse 14\, Germany
CATEGORIES:Friendly
ATTACH;FMTTYPE=image/jpeg:https://fckp.net/wp-content/uploads/2016/08/14010088_10158114597090206_1937212417_n.jpg
END:VEVENT
BEGIN:VEVENT
DTSTART;TZID=Europe/Berlin:20160912T190000
DTEND;TZID=Europe/Berlin:20160912T210000
DTSTAMP:20260422T131334
CREATED:20160824T221848Z
LAST-MODIFIED:20160824T221848Z
UID:4673-1473706800-1473714000@fckp.net
SUMMARY:11-a-side Friendly vs SG Deutscher Bundestag
DESCRIPTION:
URL:https://fckp.net/event/11-side-friendly-vs-sg-deutscher-bundestag-2-3/
LOCATION:Poststadion\, Lehrter Str. 59\, Berlin
CATEGORIES:Friendly
ATTACH;FMTTYPE=image/jpeg:https://fckp.net/wp-content/uploads/2016/08/14010088_10158114597090206_1937212417_n.jpg
END:VEVENT
BEGIN:VEVENT
DTSTART;TZID=Europe/Berlin:20160905T180000
DTEND;TZID=Europe/Berlin:20160905T203000
DTSTAMP:20260422T131334
CREATED:20160820T141149Z
LAST-MODIFIED:20160828T162906Z
UID:4666-1473098400-1473107400@fckp.net
SUMMARY:11-a-side Friendly vs Grüne Tulpe (AEM PLAYERS ONLY)
DESCRIPTION:
URL:https://fckp.net/event/11-side-friendly-vs-grune-tulpe-2-3/
LOCATION:Poststadion\, Lehrter Str. 59\, Berlin
CATEGORIES:Friendly
ATTACH;FMTTYPE=image/jpeg:https://fckp.net/wp-content/uploads/2016/08/14010088_10158114597090206_1937212417_n.jpg
END:VEVENT
BEGIN:VEVENT
DTSTART;TZID=Europe/Berlin:20160822T190000
DTEND;TZID=Europe/Berlin:20160822T210000
DTSTAMP:20260422T131334
CREATED:20160729T144141Z
LAST-MODIFIED:20160729T144141Z
UID:4599-1471892400-1471899600@fckp.net
SUMMARY:7-a-side Friendly vs ESV Lok Potsdam
DESCRIPTION:2×45 min \nOn natural grass! \nWe play in yellow jerseys! \nClosest station is Tram-stop “Glienickerbrücke”
URL:https://fckp.net/event/7-side-friendly-vs-esv-lok-potsdam/
LOCATION:Unnamed Venue\, Berlinerstrasse 69\, Potsdam\, 14467 \, Germany
CATEGORIES:Friendly
END:VEVENT
BEGIN:VEVENT
DTSTART;TZID=Europe/Berlin:20160731T100000
DTEND;TZID=Europe/Berlin:20160731T120000
DTSTAMP:20260422T131334
CREATED:20160723T194040Z
LAST-MODIFIED:20160723T194040Z
UID:4596-1469959200-1469966400@fckp.net
SUMMARY:7-a-side Friendly vs Britzer Legends
DESCRIPTION:
URL:https://fckp.net/event/7-side-friendly-vs-britzer-legends/
LOCATION:Unnamed Venue\, Buckowerdamm 150\, Berlin\, 12349\, Germany
CATEGORIES:Friendly
ATTACH;FMTTYPE=image/jpeg:https://fckp.net/wp-content/uploads/2016/04/Game-Header-FCKp.jpg
END:VEVENT
BEGIN:VEVENT
DTSTART;TZID=Europe/Berlin:20160704T190000
DTEND;TZID=Europe/Berlin:20160704T210000
DTSTAMP:20260422T131334
CREATED:20160611T220309Z
LAST-MODIFIED:20160611T220309Z
UID:4465-1467658800-1467666000@fckp.net
SUMMARY:7-a-side vs ESV Lok Potsdam
DESCRIPTION:2x 45min \nKickoff; 19:00 \nNatural grass pitch
URL:https://fckp.net/event/7-side-vs-esv-lok-potsdam/
LOCATION:ESV Lok Potsdam\, Breitestrasse 67\, Potsdam\, 14467\, Germany
CATEGORIES:Friendly
ATTACH;FMTTYPE=image/jpeg:https://fckp.net/wp-content/uploads/2016/04/Game-Header-FCKp.jpg
END:VEVENT
BEGIN:VEVENT
DTSTART;TZID=Europe/Berlin:20160627T183000
DTEND;TZID=Europe/Berlin:20160627T210000
DTSTAMP:20260422T131334
CREATED:20160610T161401Z
LAST-MODIFIED:20160610T161401Z
UID:4462-1467052200-1467061200@fckp.net
SUMMARY:11-a-side Friendly vs FC Schöneberg
DESCRIPTION:
URL:https://fckp.net/event/11-side-friendly-vs-fc-schoneberg-2/
LOCATION:Voralbergerdamm 33\, Berlin\, 12157\, Germany
CATEGORIES:Friendly
ATTACH;FMTTYPE=image/jpeg:https://fckp.net/wp-content/uploads/2016/04/Game-Header-FCKp.jpg
END:VEVENT
BEGIN:VEVENT
DTSTART;TZID=Europe/Berlin:20160620T183000
DTEND;TZID=Europe/Berlin:20160620T203000
DTSTAMP:20260422T131334
CREATED:20160610T161212Z
LAST-MODIFIED:20160610T161212Z
UID:4461-1466447400-1466454600@fckp.net
SUMMARY:11-a-side Friendly vs FC Schöneberg
DESCRIPTION:Kickoff 18:30 \nArtificial grass
URL:https://fckp.net/event/11-side-friendly-vs-fc-schoneberg/
LOCATION:Voralbergerdamm 33\, Berlin\, 12157\, Germany
CATEGORIES:Friendly
ATTACH;FMTTYPE=image/jpeg:https://fckp.net/wp-content/uploads/2016/04/Game-Header-FCKp.jpg
END:VEVENT
BEGIN:VEVENT
DTSTART;TZID=Europe/Berlin:20160613T190000
DTEND;TZID=Europe/Berlin:20160613T210000
DTSTAMP:20260422T131334
CREATED:20160412T123148Z
LAST-MODIFIED:20160412T123148Z
UID:4387-1465844400-1465851600@fckp.net
SUMMARY:11-a-side Friendly vs Grüne Tulpe
DESCRIPTION:
URL:https://fckp.net/event/11-side-friendly-vs-grune-tulpe-2-2/
LOCATION:Poststadion\, Lehrter Str. 59\, Berlin
CATEGORIES:Friendly
ATTACH;FMTTYPE=image/jpeg:https://fckp.net/wp-content/uploads/2016/02/Game-Header-Grüne-Tulpe.jpg
END:VEVENT
BEGIN:VEVENT
DTSTART;TZID=Europe/Berlin:20160605T180000
DTEND;TZID=Europe/Berlin:20160605T200000
DTSTAMP:20260422T131334
CREATED:20160412T124120Z
LAST-MODIFIED:20160412T124120Z
UID:4388-1465149600-1465156800@fckp.net
SUMMARY:7-a-side Friendly vs Harter Kern 97 e.V.
DESCRIPTION:
URL:https://fckp.net/event/7-side-friendly-vs-harter-kern-97-e-v/
CATEGORIES:Friendly
ATTACH;FMTTYPE=image/jpeg:https://fckp.net/wp-content/uploads/2016/04/Game-Header-FCKp.jpg
END:VEVENT
BEGIN:VEVENT
DTSTART;TZID=Europe/Berlin:20160601T193000
DTEND;TZID=Europe/Berlin:20160601T213000
DTSTAMP:20260422T131334
CREATED:20160414T083639Z
LAST-MODIFIED:20160414T083639Z
UID:4391-1464809400-1464816600@fckp.net
SUMMARY:7-a-side Friendly vs SV Buchholz e.V.
DESCRIPTION:We play this friendly vs SV Buchholz\, 2x45min\, 7-a-side. \nTramstop (50) Blankenfelderstrasse \nMeetingpoint: 19:30
URL:https://fckp.net/event/7-side-friendly-vs-sv-buchholz-e-v/
LOCATION:Unnamed Venue\, Chamissostrasse 9\, Berlin\, 13127\, Germany
CATEGORIES:Friendly
ATTACH;FMTTYPE=image/jpeg:https://fckp.net/wp-content/uploads/2016/04/Game-Header-SV-Buchholz.jpg
END:VEVENT
BEGIN:VEVENT
DTSTART;TZID=Europe/Berlin:20160530T193000
DTEND;TZID=Europe/Berlin:20160530T210000
DTSTAMP:20260422T131334
CREATED:20160401T165211Z
LAST-MODIFIED:20160401T165929Z
UID:4334-1464636600-1464642000@fckp.net
SUMMARY:11-a-side Friendly vs SG Deutscher Bundestag
DESCRIPTION:
URL:https://fckp.net/event/11-side-friendly-vs-sg-deutscher-bundestag-2-2/
LOCATION:Poststadion\, Lehrter Str. 59\, Berlin
CATEGORIES:Friendly
ATTACH;FMTTYPE=image/jpeg:https://fckp.net/wp-content/uploads/2016/04/Game-Header-SG-Bundestag.jpg
END:VEVENT
BEGIN:VEVENT
DTSTART;TZID=Europe/Berlin:20160509T191000
DTEND;TZID=Europe/Berlin:20160509T201000
DTSTAMP:20260422T131334
CREATED:20160401T163309Z
LAST-MODIFIED:20160412T122927Z
UID:4330-1462821000-1462824600@fckp.net
SUMMARY:11-a-side Friendly vs Grüne Tulpe
DESCRIPTION:
URL:https://fckp.net/event/11-side-friendly-vs-grune-tulpe-2/
LOCATION:Poststadion\, Lehrter Str. 59\, Berlin
CATEGORIES:Friendly
ATTACH;FMTTYPE=image/jpeg:https://fckp.net/wp-content/uploads/2016/04/Game-Header-FCKp.jpg
END:VEVENT
BEGIN:VEVENT
DTSTART;TZID=Europe/Berlin:20160502T183000
DTEND;TZID=Europe/Berlin:20160502T200000
DTSTAMP:20260422T131334
CREATED:20160414T091837Z
LAST-MODIFIED:20160414T091837Z
UID:4394-1462213800-1462219200@fckp.net
SUMMARY:7-a-side vs ABC Zentrum e.V.
DESCRIPTION:
URL:https://fckp.net/event/7-side-vs-abc-zentrum-e-v/
LOCATION:ABC Zentrum\, Berlin\, Germany
CATEGORIES:Friendly
ATTACH;FMTTYPE=image/jpeg:https://fckp.net/wp-content/uploads/2016/04/Game-Header-FCKK-TRAINING.jpg
END:VEVENT
BEGIN:VEVENT
DTSTART;TZID=Europe/Berlin:20160427T193000
DTEND;TZID=Europe/Berlin:20160427T210000
DTSTAMP:20260422T131334
CREATED:20160401T161935Z
LAST-MODIFIED:20160401T161935Z
UID:4326-1461785400-1461790800@fckp.net
SUMMARY:7-a-side Friendly vs Viktoria Mitte
DESCRIPTION:
URL:https://fckp.net/event/7-side-friendly-vs-viktoria-mitte/
LOCATION:Poststadion\, Lehrter Str. 59\, Berlin
CATEGORIES:Friendly
ATTACH;FMTTYPE=image/jpeg:https://fckp.net/wp-content/uploads/2016/04/Game-Header-Viktoria-Mitte.jpg
END:VEVENT
BEGIN:VEVENT
DTSTART;TZID=Europe/Berlin:20160425T193000
DTEND;TZID=Europe/Berlin:20160425T210000
DTSTAMP:20260422T131334
CREATED:20160401T161608Z
LAST-MODIFIED:20160401T161608Z
UID:4324-1461612600-1461618000@fckp.net
SUMMARY:11-a-side Friendly vs SG Deutscher Bundestag
DESCRIPTION:
URL:https://fckp.net/event/11-side-friendly-vs-sg-deutscher-bundestag-2/
LOCATION:Poststadion\, Lehrter Str. 59\, Berlin
CATEGORIES:Friendly
ATTACH;FMTTYPE=image/jpeg:https://fckp.net/wp-content/uploads/2016/04/Game-Header-SG-Bundestag.jpg
END:VEVENT
BEGIN:VEVENT
DTSTART;TZID=Europe/Berlin:20160418T183000
DTEND;TZID=Europe/Berlin:20160418T200000
DTSTAMP:20260422T131334
CREATED:20160412T140900Z
LAST-MODIFIED:20160412T140900Z
UID:4389-1461004200-1461009600@fckp.net
SUMMARY:6-a-side Friendly vs British Embassy
DESCRIPTION:
URL:https://fckp.net/event/6-side-friendly-vs-british-embassy/
CATEGORIES:Friendly
ATTACH;FMTTYPE=image/jpeg:https://fckp.net/wp-content/uploads/2016/04/Game-Header-FCKP-vs-British-embassy.jpg
END:VEVENT
BEGIN:VEVENT
DTSTART;TZID=Europe/Berlin:20160411T183000
DTEND;TZID=Europe/Berlin:20160411T200000
DTSTAMP:20260422T131334
CREATED:20160401T155626Z
LAST-MODIFIED:20160401T155946Z
UID:4320-1460399400-1460404800@fckp.net
SUMMARY:7-a-side Friendly vs ABC Zentrum E.V.
DESCRIPTION:
URL:https://fckp.net/event/friendly-vs-abc-zentrum-e-v/
LOCATION:ABC Zentrum\, Berlin\, Germany
CATEGORIES:Friendly
ATTACH;FMTTYPE=image/jpeg:https://fckp.net/wp-content/uploads/2016/04/Game-Header-ABC-Zentrum.jpg
END:VEVENT
BEGIN:VEVENT
DTSTART;TZID=Europe/Berlin:20160403T180000
DTEND;TZID=Europe/Berlin:20160403T200000
DTSTAMP:20260422T131334
CREATED:20160302T133502Z
LAST-MODIFIED:20160302T133502Z
UID:4288-1459706400-1459713600@fckp.net
SUMMARY:7-a-side Friendly vs Harter Kern 97 e.V. (Ludwigsfelde)
DESCRIPTION:Opponent plays in Red-White jerseys; 2x45min\, artificial grass! \n 
URL:https://fckp.net/event/7-a-side-friendly-vs-harter-kern-97-e-v-ludwigsfelde/
LOCATION:Waldstadion\, Straße der Jugend 30-39\, Ludwigsfelde\, 14974
CATEGORIES:Friendly
ATTACH;FMTTYPE=image/jpeg:https://fckp.net/wp-content/uploads/2016/03/Harter-Kern-97-header.jpg
ORGANIZER;CN="Unnamed Organizer":MAILTO:marianbarath@yahoo.de
END:VEVENT
BEGIN:VEVENT
DTSTART;TZID=Europe/Berlin:20151116T190000
DTEND;TZID=Europe/Berlin:20151116T204500
DTSTAMP:20260422T131334
CREATED:20150927T212049Z
LAST-MODIFIED:20150927T212049Z
UID:3568-1447700400-1447706700@fckp.net
SUMMARY:FCKP > Friendly vs Grüne Tulpe
DESCRIPTION:
URL:https://fckp.net/event/fckp-friendly-vs-grune-tulpe/
LOCATION:Poststadion\, Lehrter Str. 59\, Berlin
CATEGORIES:Friendly
ATTACH;FMTTYPE=image/jpeg:https://fckp.net/wp-content/uploads/2015/09/FriendlyGT2.jpg
END:VEVENT
BEGIN:VEVENT
DTSTART;TZID=Europe/Berlin:20151005T180000
DTEND;TZID=Europe/Berlin:20151005T194500
DTSTAMP:20260422T131334
CREATED:20150927T201427Z
LAST-MODIFIED:20150927T201427Z
UID:3559-1444068000-1444074300@fckp.net
SUMMARY:FCKP > Friendly vs ABC Zentrum
DESCRIPTION:
URL:https://fckp.net/event/fckp-friendly-vs-abc-zentrum/
LOCATION:ABC Zentrum\, Berlin\, Germany
CATEGORIES:Friendly
ATTACH;FMTTYPE=image/jpeg:https://fckp.net/wp-content/uploads/2015/09/FriendlyABC.jpg
END:VEVENT
BEGIN:VEVENT
DTSTART;TZID=Europe/Berlin:20150906T110000
DTEND;TZID=Europe/Berlin:20150906T140000
DTSTAMP:20260422T131334
CREATED:20150817T104717Z
LAST-MODIFIED:20150817T105215Z
UID:3509-1441537200-1441548000@fckp.net
SUMMARY:[FCKP] Friendly Vs Champions Ohne Grenzen
DESCRIPTION:
URL:https://fckp.net/event/fckp-friendly-vs-champions-ohne-grenzen/
LOCATION:FSV Hansa 07\, Wrangelstraße 98\, Berlin\, 10997\, Germany
CATEGORIES:Friendly
ATTACH;FMTTYPE=image/jpeg:https://fckp.net/wp-content/uploads/2015/08/FriendlyCOG.jpg
END:VEVENT
BEGIN:VEVENT
DTSTART;TZID=Europe/Berlin:20150802T094500
DTEND;TZID=Europe/Berlin:20150802T123000
DTSTAMP:20260422T131334
CREATED:20150717T143255Z
LAST-MODIFIED:20150717T144450Z
UID:3472-1438508700-1438518600@fckp.net
SUMMARY:[FCKP] Friendly Vs SV Stern Britz
DESCRIPTION:
URL:https://fckp.net/event/fckp-friendly-vs-sv-stern-britz/
CATEGORIES:Friendly
END:VEVENT
BEGIN:VEVENT
DTSTART;TZID=Europe/Berlin:20150621T100000
DTEND;TZID=Europe/Berlin:20150621T131500
DTSTAMP:20260422T131334
CREATED:20150620T155037Z
LAST-MODIFIED:20150620T155037Z
UID:3343-1434880800-1434892500@fckp.net
SUMMARY:[FCKP] Friendly VS Marzahner Wölfe 08
DESCRIPTION:
URL:https://fckp.net/event/fckp-friendly-vs-marzahner-wolfe-08-2/
LOCATION:Stadion Buschallee\, Hansastrasse\, Berlin\, 10178
CATEGORIES:Friendly
ATTACH;FMTTYPE=image/jpeg:https://fckp.net/wp-content/uploads/2015/06/FriendlyMW08-2.jpg
END:VEVENT
BEGIN:VEVENT
DTSTART;TZID=Europe/Berlin:20150531T133000
DTEND;TZID=Europe/Berlin:20150531T160000
DTSTAMP:20260422T131334
CREATED:20150528T122524Z
LAST-MODIFIED:20150528T122524Z
UID:3336-1433079000-1433088000@fckp.net
SUMMARY:[FCKP] FCKP I VS FCKP II
DESCRIPTION:
URL:https://fckp.net/event/fckp-fckp-1-vs-fckp-2/
LOCATION:Stadion Buschallee\, Hansastrasse\, Berlin\, 10178
CATEGORIES:Friendly
ATTACH;FMTTYPE=image/jpeg:https://fckp.net/wp-content/uploads/2015/05/FriendlyFCKPvsFCKP.jpg
END:VEVENT
BEGIN:VEVENT
DTSTART;TZID=Europe/Berlin:20150524T103000
DTEND;TZID=Europe/Berlin:20150524T130000
DTSTAMP:20260422T131334
CREATED:20150514T100443Z
LAST-MODIFIED:20150514T131725Z
UID:3178-1432463400-1432472400@fckp.net
SUMMARY:[FCKP] Friendly VS BFC Mixalot
DESCRIPTION:Meeting time half an hour before the game\, we don’t have showers there keep that in mind. \n– we play in our away shirts (black)\, black pants\, black socks \n– shinpads mandatory (get in use to it) \n– 2 x 45min \n– artifical grass pit\n\nBe on time\, thanks!
URL:https://fckp.net/event/friendly-7-a-side-vs-bfc-mixalot/
LOCATION:Stadion Buschallee\, Hansastrasse\, Berlin\, 10178
CATEGORIES:Friendly
ATTACH;FMTTYPE=image/jpeg:https://fckp.net/wp-content/uploads/2015/05/FriendlyBFCM.jpg
END:VEVENT
BEGIN:VEVENT
DTSTART;TZID=Europe/Berlin:20150510T103000
DTEND;TZID=Europe/Berlin:20150510T123000
DTSTAMP:20260422T131334
CREATED:20150403T011210Z
LAST-MODIFIED:20150413T135140Z
UID:2643-1431253800-1431261000@fckp.net
SUMMARY:[FCKP] Friendly VS Marzahner Wölfe 08
DESCRIPTION:
URL:https://fckp.net/event/fckp-friendly-vs-marzahner-wolfe-08/
LOCATION:Marzahner Wölfe 08\, Wittenbergerstrasse 50\, Berlin\, 12689\, Germany
CATEGORIES:Friendly
ATTACH;FMTTYPE=image/jpeg:https://fckp.net/wp-content/uploads/2015/04/FriendlyMW081.jpg
END:VEVENT
END:VCALENDAR