BEGIN:VCALENDAR
VERSION:2.0
PRODID:-//FCKP - ECPv6.15.16//NONSGML v1.0//EN
CALSCALE:GREGORIAN
METHOD:PUBLISH
X-ORIGINAL-URL:https://fckp.net
X-WR-CALDESC:Events for FCKP
REFRESH-INTERVAL;VALUE=DURATION:PT1H
X-Robots-Tag:noindex
X-PUBLISHED-TTL:PT1H
BEGIN:VTIMEZONE
TZID:Europe/Berlin
BEGIN:DAYLIGHT
TZOFFSETFROM:+0100
TZOFFSETTO:+0200
TZNAME:CEST
DTSTART:20140330T010000
END:DAYLIGHT
BEGIN:STANDARD
TZOFFSETFROM:+0200
TZOFFSETTO:+0100
TZNAME:CET
DTSTART:20141026T010000
END:STANDARD
BEGIN:DAYLIGHT
TZOFFSETFROM:+0100
TZOFFSETTO:+0200
TZNAME:CEST
DTSTART:20150329T010000
END:DAYLIGHT
BEGIN:STANDARD
TZOFFSETFROM:+0200
TZOFFSETTO:+0100
TZNAME:CET
DTSTART:20151025T010000
END:STANDARD
BEGIN:DAYLIGHT
TZOFFSETFROM:+0100
TZOFFSETTO:+0200
TZNAME:CEST
DTSTART:20160327T010000
END:DAYLIGHT
BEGIN:STANDARD
TZOFFSETFROM:+0200
TZOFFSETTO:+0100
TZNAME:CET
DTSTART:20161030T010000
END:STANDARD
END:VTIMEZONE
BEGIN:VEVENT
DTSTART;TZID=Europe/Berlin:20150506T190000
DTEND;TZID=Europe/Berlin:20150506T210000
DTSTAMP:20260422T182239
CREATED:20150331T111325Z
LAST-MODIFIED:20150406T200725Z
UID:2634-1430938800-1430946000@fckp.net
SUMMARY:[FCKP] Friendly VS Kick Berlin
DESCRIPTION:Hi lads\, \nAnother friendly against the lads of Kick Berlin. \n• Mode: 6+1\n• Time: 2x40min\n• Kickoff: 19:30 \nWe play in yellow-black-black as our opponent is playing in all black. \nCheers\,\nMarian
URL:https://fckp.net/event/fckp-friendly-vs-kick-berlin/
LOCATION:SC Siemensstadt\, Buolstraße 14\, Berlin\, 13629\, Germany
CATEGORIES:Friendly
ATTACH;FMTTYPE=image/jpeg:https://fckp.net/wp-content/uploads/2015/03/FriendlyKB.jpg
END:VEVENT
BEGIN:VEVENT
DTSTART;TZID=Europe/Berlin:20150426T170000
DTEND;TZID=Europe/Berlin:20150426T190000
DTSTAMP:20260422T182239
CREATED:20150414T205208Z
LAST-MODIFIED:20150419T212212Z
UID:2768-1430067600-1430074800@fckp.net
SUMMARY:[FCKP] Friendly Vs SV Berliner Brauereien e.V.
DESCRIPTION:Info: 11-a-side | 2x 45min | Referee | Jersey: Yellow\, Black\, Black | Shinpads mandatory | artificial grass \nWe meet an hour before the match starts.
URL:https://fckp.net/event/fckp-friendly-11-a-side-vs-sv-berliner-brauereien/
LOCATION:Brauereien Berlin\, Paul-Heyse-Strasse 25\, Berlin\, 10407
CATEGORIES:Friendly
ATTACH;FMTTYPE=image/jpeg:https://fckp.net/wp-content/uploads/2015/04/FriendlySVBB.jpg
END:VEVENT
BEGIN:VEVENT
DTSTART;TZID=Europe/Berlin:20150418T110000
DTEND;TZID=Europe/Berlin:20150418T130000
DTSTAMP:20260422T182239
CREATED:20150413T131755Z
LAST-MODIFIED:20150413T141522Z
UID:2757-1429354800-1429362000@fckp.net
SUMMARY:[FCKP] Friendly VS FC Knülle
DESCRIPTION:Info: We play 7-a-side\, 2x 45min\, artificial grass pitch\, yellow jerseys\, black pants\, black socks\, shinpads. \nChanging room and showers are available! \nCheers\,\nMarian
URL:https://fckp.net/event/friendly-7-a-side-vs-fc-knulle-steglitz/
LOCATION:Lessing Sportplatz\, Lessingstrasse 5-8\, Berlin\, 12169
CATEGORIES:Friendly
ATTACH;FMTTYPE=image/jpeg:https://fckp.net/wp-content/uploads/2015/04/FriendlyFCK.jpg
END:VEVENT
BEGIN:VEVENT
DTSTART;TZID=Europe/Berlin:20150415T190000
DTEND;TZID=Europe/Berlin:20150415T210000
DTSTAMP:20260422T182239
CREATED:20150403T012227Z
LAST-MODIFIED:20150406T192941Z
UID:2644-1429124400-1429131600@fckp.net
SUMMARY:[FCKP] Friendly VS FK Rotor Kreuzberg e.V.
DESCRIPTION:
URL:https://fckp.net/event/fckp-friendly-vs-fk-rotor-kreuzberg-e-v/
LOCATION:Fritz-Reuter -Oberschule\, Prendener Straße 29\, Berlin\, 13059\, Germany
CATEGORIES:Friendly
ATTACH;FMTTYPE=image/jpeg:https://fckp.net/wp-content/uploads/2015/04/FriendlyFKRK.jpg
END:VEVENT
END:VCALENDAR